BEGIN:VCALENDAR
VERSION:2.0
PRODID:-//Deutsche Cornhole Organisation e.V. - ECPv6.15.20//NONSGML v1.0//EN
CALSCALE:GREGORIAN
METHOD:PUBLISH
X-ORIGINAL-URL:https://dco-ev.de/cms
X-WR-CALDESC:Veranstaltungen für Deutsche Cornhole Organisation e.V.
REFRESH-INTERVAL;VALUE=DURATION:PT1H
X-Robots-Tag:noindex
X-PUBLISHED-TTL:PT1H
BEGIN:VTIMEZONE
TZID:Europe/Berlin
BEGIN:DAYLIGHT
TZOFFSETFROM:+0100
TZOFFSETTO:+0200
TZNAME:CEST
DTSTART:20240331T010000
END:DAYLIGHT
BEGIN:STANDARD
TZOFFSETFROM:+0200
TZOFFSETTO:+0100
TZNAME:CET
DTSTART:20241027T010000
END:STANDARD
BEGIN:DAYLIGHT
TZOFFSETFROM:+0100
TZOFFSETTO:+0200
TZNAME:CEST
DTSTART:20250330T010000
END:DAYLIGHT
BEGIN:STANDARD
TZOFFSETFROM:+0200
TZOFFSETTO:+0100
TZNAME:CET
DTSTART:20251026T010000
END:STANDARD
BEGIN:DAYLIGHT
TZOFFSETFROM:+0100
TZOFFSETTO:+0200
TZNAME:CEST
DTSTART:20260329T010000
END:DAYLIGHT
BEGIN:STANDARD
TZOFFSETFROM:+0200
TZOFFSETTO:+0100
TZNAME:CET
DTSTART:20261025T010000
END:STANDARD
END:VTIMEZONE
BEGIN:VEVENT
DTSTART;VALUE=DATE:20250404
DTEND;VALUE=DATE:20250407
DTSTAMP:20260422T174949
CREATED:20250212T075413Z
LAST-MODIFIED:20250301T174715Z
UID:5240-1743724800-1743983999@dco-ev.de
SUMMARY:ACL Slovakia OPEN 2025
DESCRIPTION:Registration is now open for the second annual ACL Slovakia Open! Expect an epic weekend and a chance to collect your Tier 3 points!Event details: April 4-6\, 2025 Domaniža\, Slovakia Tier 3 event Register Now: https://app.iplayacl.com/find-events/8648/type/reg
URL:https://dco-ev.de/cms/event/acl-slovakia-open-2025/
CATEGORIES:ACL Europe,Tier 3 Event
ATTACH;FMTTYPE=image/jpeg:https://dco-ev.de/cms/wp-content/uploads/2025/02/SlovakiaOpen2025.jpg
END:VEVENT
BEGIN:VEVENT
DTSTART;VALUE=DATE:20250412
DTEND;VALUE=DATE:20250413
DTSTAMP:20260422T174949
CREATED:20250122T184957Z
LAST-MODIFIED:20250122T184957Z
UID:5110-1744416000-1744502399@dco-ev.de
SUMMARY:Schleswig-Holstein Open
DESCRIPTION:Ihr habt noch nicht genug? Dann auf nach Kaltenkirchen!\n\n\nAm 12.04.25 könnt Ihr bei den Schleswig-Holstein Open Punkte für die Rangliste erspielen.\n\n\nInformationen zur Anmeldung folgen in Kürze.
URL:https://dco-ev.de/cms/event/schleswig-holstein-open/
LOCATION:Tennis & Cornhole-Halle „Schirnau“ in 24568 Kaltenkirchen\, Schirnauallee 3\, Kaltenkirchen\, Schleswig-Holstein\, 24568\, Deutschland
CATEGORIES:DCO Level 2,DCO Rangliste,DCO-Turnier,EINZEL,Save The Date
ATTACH;FMTTYPE=image/jpeg:https://dco-ev.de/cms/wp-content/uploads/2025/01/Schleswig-Holstein-Open_opt.jpg
END:VEVENT
END:VCALENDAR