BEGIN:VCALENDAR
VERSION:2.0
PRODID:-//Deutsche Cornhole Organisation e.V. - ECPv6.15.20//NONSGML v1.0//EN
CALSCALE:GREGORIAN
METHOD:PUBLISH
X-ORIGINAL-URL:https://dco-ev.de/cms
X-WR-CALDESC:Veranstaltungen für Deutsche Cornhole Organisation e.V.
REFRESH-INTERVAL;VALUE=DURATION:PT1H
X-Robots-Tag:noindex
X-PUBLISHED-TTL:PT1H
BEGIN:VTIMEZONE
TZID:Europe/Berlin
BEGIN:DAYLIGHT
TZOFFSETFROM:+0100
TZOFFSETTO:+0200
TZNAME:CEST
DTSTART:20240331T010000
END:DAYLIGHT
BEGIN:STANDARD
TZOFFSETFROM:+0200
TZOFFSETTO:+0100
TZNAME:CET
DTSTART:20241027T010000
END:STANDARD
BEGIN:DAYLIGHT
TZOFFSETFROM:+0100
TZOFFSETTO:+0200
TZNAME:CEST
DTSTART:20250330T010000
END:DAYLIGHT
BEGIN:STANDARD
TZOFFSETFROM:+0200
TZOFFSETTO:+0100
TZNAME:CET
DTSTART:20251026T010000
END:STANDARD
BEGIN:DAYLIGHT
TZOFFSETFROM:+0100
TZOFFSETTO:+0200
TZNAME:CEST
DTSTART:20260329T010000
END:DAYLIGHT
BEGIN:STANDARD
TZOFFSETFROM:+0200
TZOFFSETTO:+0100
TZNAME:CET
DTSTART:20261025T010000
END:STANDARD
END:VTIMEZONE
BEGIN:VEVENT
DTSTART;VALUE=DATE:20250912
DTEND;VALUE=DATE:20250915
DTSTAMP:20260422T185257
CREATED:20241217T183743Z
LAST-MODIFIED:20250131T164353Z
UID:5034-1757635200-1757894399@dco-ev.de
SUMMARY:Endless Cornhole Festival
DESCRIPTION:Liebe Cornhole Gemeinde\,\nmit großer Freude dürfen wie euch das 5. Endless Cornhole Festival ankündigen\, welches wieder vom KSV Delirium e.V. ausgerichtet wird. In historischer Kulisse in der Saigerhütte Grünthal wird diesmal an 3 Tagen um Pokale und DCO Ranglistenpunkte gekämpft.\nFreitag wird es ein Swap Turnier geben\, Samstag die Einzel und Sonntag die Doppel.\n\n\nStartgeld:\n\n\nSwap – 10 € (pro Spieler)\nEinzel – 15 €\nDoppel – 10 € (pro Spieler)\n\n\nDie Adresse der Location:\n\n\nTreibehaus Saigerhütte Grünthal\nIn der Hütte 10\n09526 Olbernhau\n\n\nAnmeldungen bitte per PN oder per Whats App an Wolfgang Geitner – 01723571056.\n\n\nWer Hotel\, Ferienwohnung e.t.c. braucht\, ihr könnt euch gerne melden\, wir leiten euch dann an die Gasthäuser weiter.\n\n\nWir freuen uns auf euch.
URL:https://dco-ev.de/cms/event/endless-cornhole-festival/
CATEGORIES:DCO Level 2,DCO Rangliste,DCO-Turnier,DOPPEL,EINZEL,Save The Date
ATTACH;FMTTYPE=image/jpeg:https://dco-ev.de/cms/wp-content/uploads/2024/12/EndlessCornholeFestival2025.jpg
END:VEVENT
END:VCALENDAR