BEGIN:VCALENDAR
VERSION:2.0
PRODID:-//Deutsche Cornhole Organisation e.V. - ECPv6.15.20//NONSGML v1.0//EN
CALSCALE:GREGORIAN
METHOD:PUBLISH
X-ORIGINAL-URL:https://dco-ev.de/cms
X-WR-CALDESC:Veranstaltungen für Deutsche Cornhole Organisation e.V.
REFRESH-INTERVAL;VALUE=DURATION:PT1H
X-Robots-Tag:noindex
X-PUBLISHED-TTL:PT1H
BEGIN:VTIMEZONE
TZID:Europe/Berlin
BEGIN:DAYLIGHT
TZOFFSETFROM:+0100
TZOFFSETTO:+0200
TZNAME:CEST
DTSTART:20240331T010000
END:DAYLIGHT
BEGIN:STANDARD
TZOFFSETFROM:+0200
TZOFFSETTO:+0100
TZNAME:CET
DTSTART:20241027T010000
END:STANDARD
BEGIN:DAYLIGHT
TZOFFSETFROM:+0100
TZOFFSETTO:+0200
TZNAME:CEST
DTSTART:20250330T010000
END:DAYLIGHT
BEGIN:STANDARD
TZOFFSETFROM:+0200
TZOFFSETTO:+0100
TZNAME:CET
DTSTART:20251026T010000
END:STANDARD
BEGIN:DAYLIGHT
TZOFFSETFROM:+0100
TZOFFSETTO:+0200
TZNAME:CEST
DTSTART:20260329T010000
END:DAYLIGHT
BEGIN:STANDARD
TZOFFSETFROM:+0200
TZOFFSETTO:+0100
TZNAME:CET
DTSTART:20261025T010000
END:STANDARD
END:VTIMEZONE
BEGIN:VEVENT
DTSTART;VALUE=DATE:20250817
DTEND;VALUE=DATE:20250818
DTSTAMP:20260424T130556
CREATED:20241217T181406Z
LAST-MODIFIED:20241217T182417Z
UID:5024-1755388800-1755475199@dco-ev.de
SUMMARY:Quierschied Open
DESCRIPTION:Doppelturnier
URL:https://dco-ev.de/cms/event/quierschied-open/
CATEGORIES:DCO Level 2,DCO Rangliste,DCO-Turnier,DOPPEL,Save The Date
ATTACH;FMTTYPE=image/jpeg:https://dco-ev.de/cms/wp-content/uploads/2024/12/QuierschiedOpen2025.jpg
ORGANIZER;CN="Interessengemeinschaft Sackloch":MAILTO:info@sackloch-spiel.de
END:VEVENT
END:VCALENDAR