BEGIN:VCALENDAR
VERSION:2.0
PRODID:-//Deutsche Cornhole Organisation e.V. - ECPv6.15.20//NONSGML v1.0//EN
CALSCALE:GREGORIAN
METHOD:PUBLISH
X-ORIGINAL-URL:https://dco-ev.de/cms
X-WR-CALDESC:Veranstaltungen für Deutsche Cornhole Organisation e.V.
REFRESH-INTERVAL;VALUE=DURATION:PT1H
X-Robots-Tag:noindex
X-PUBLISHED-TTL:PT1H
BEGIN:VTIMEZONE
TZID:Europe/Berlin
BEGIN:DAYLIGHT
TZOFFSETFROM:+0100
TZOFFSETTO:+0200
TZNAME:CEST
DTSTART:20230326T010000
END:DAYLIGHT
BEGIN:STANDARD
TZOFFSETFROM:+0200
TZOFFSETTO:+0100
TZNAME:CET
DTSTART:20231029T010000
END:STANDARD
BEGIN:DAYLIGHT
TZOFFSETFROM:+0100
TZOFFSETTO:+0200
TZNAME:CEST
DTSTART:20240331T010000
END:DAYLIGHT
BEGIN:STANDARD
TZOFFSETFROM:+0200
TZOFFSETTO:+0100
TZNAME:CET
DTSTART:20241027T010000
END:STANDARD
BEGIN:DAYLIGHT
TZOFFSETFROM:+0100
TZOFFSETTO:+0200
TZNAME:CEST
DTSTART:20250330T010000
END:DAYLIGHT
BEGIN:STANDARD
TZOFFSETFROM:+0200
TZOFFSETTO:+0100
TZNAME:CET
DTSTART:20251026T010000
END:STANDARD
END:VTIMEZONE
BEGIN:VEVENT
DTSTART;VALUE=DATE:20241130
DTEND;VALUE=DATE:20241201
DTSTAMP:20260423T221941
CREATED:20240330T180511Z
LAST-MODIFIED:20241111T135133Z
UID:4537-1732924800-1733011199@dco-ev.de
SUMMARY:Deutsche Team Meisterschaft der DCO 2024
DESCRIPTION:
URL:https://dco-ev.de/cms/event/deutsche-team-meisterschaft-der-dco-2024/
LOCATION:Hohberg/Niederschopfheim\, Laugasserfeld 3\, Hohberg\, 77749\, Germany
CATEGORIES:DCO-Turnier
ATTACH;FMTTYPE=image/png:https://dco-ev.de/cms/wp-content/uploads/2024/03/Hohberg_opt.png
END:VEVENT
END:VCALENDAR