BEGIN:VCALENDAR
VERSION:2.0
PRODID:-//Deutsche Cornhole Organisation e.V. - ECPv6.15.20//NONSGML v1.0//EN
CALSCALE:GREGORIAN
METHOD:PUBLISH
X-WR-CALNAME:Deutsche Cornhole Organisation e.V.
X-ORIGINAL-URL:https://dco-ev.de/cms
X-WR-CALDESC:Veranstaltungen für Deutsche Cornhole Organisation e.V.
REFRESH-INTERVAL;VALUE=DURATION:PT1H
X-Robots-Tag:noindex
X-PUBLISHED-TTL:PT1H
BEGIN:VTIMEZONE
TZID:Europe/Berlin
BEGIN:DAYLIGHT
TZOFFSETFROM:+0100
TZOFFSETTO:+0200
TZNAME:CEST
DTSTART:20250330T010000
END:DAYLIGHT
BEGIN:STANDARD
TZOFFSETFROM:+0200
TZOFFSETTO:+0100
TZNAME:CET
DTSTART:20251026T010000
END:STANDARD
BEGIN:DAYLIGHT
TZOFFSETFROM:+0100
TZOFFSETTO:+0200
TZNAME:CEST
DTSTART:20260329T010000
END:DAYLIGHT
BEGIN:STANDARD
TZOFFSETFROM:+0200
TZOFFSETTO:+0100
TZNAME:CET
DTSTART:20261025T010000
END:STANDARD
BEGIN:DAYLIGHT
TZOFFSETFROM:+0100
TZOFFSETTO:+0200
TZNAME:CEST
DTSTART:20270328T010000
END:DAYLIGHT
BEGIN:STANDARD
TZOFFSETFROM:+0200
TZOFFSETTO:+0100
TZNAME:CET
DTSTART:20271031T010000
END:STANDARD
END:VTIMEZONE
BEGIN:VEVENT
DTSTART;VALUE=DATE:20260425
DTEND;VALUE=DATE:20260426
DTSTAMP:20260424T103459
CREATED:20260120T182129Z
LAST-MODIFIED:20260120T182222Z
UID:5935-1777075200-1777161599@dco-ev.de
SUMMARY:2. BL: Staffel 9 - Hinrunde - SÜDOST
DESCRIPTION:Einlass: 09:00 Uhr\nStart: 11:00 Uhr
URL:https://dco-ev.de/cms/event/zweite-bl-staffel-9-suedost-hr/
LOCATION:Brugkirchen an der ALZ\, Jahnstraße 6\, Burgkirchen a.d.Alz\, 84508\, Germany
CATEGORIES:2. Bundesliga,Bundesliga,Save The Date
ATTACH;FMTTYPE=image/png:https://dco-ev.de/cms/wp-content/uploads/2026/01/2-Staffel-9-Suedost_opt.png
END:VEVENT
END:VCALENDAR