BEGIN:VCALENDAR
VERSION:2.0
PRODID:-//Deutsche Cornhole Organisation e.V. - ECPv6.15.20//NONSGML v1.0//EN
CALSCALE:GREGORIAN
METHOD:PUBLISH
X-WR-CALNAME:Deutsche Cornhole Organisation e.V.
X-ORIGINAL-URL:https://dco-ev.de/cms
X-WR-CALDESC:Veranstaltungen für Deutsche Cornhole Organisation e.V.
REFRESH-INTERVAL;VALUE=DURATION:PT1H
X-Robots-Tag:noindex
X-PUBLISHED-TTL:PT1H
BEGIN:VTIMEZONE
TZID:Europe/Berlin
BEGIN:DAYLIGHT
TZOFFSETFROM:+0100
TZOFFSETTO:+0200
TZNAME:CEST
DTSTART:20240331T010000
END:DAYLIGHT
BEGIN:STANDARD
TZOFFSETFROM:+0200
TZOFFSETTO:+0100
TZNAME:CET
DTSTART:20241027T010000
END:STANDARD
BEGIN:DAYLIGHT
TZOFFSETFROM:+0100
TZOFFSETTO:+0200
TZNAME:CEST
DTSTART:20250330T010000
END:DAYLIGHT
BEGIN:STANDARD
TZOFFSETFROM:+0200
TZOFFSETTO:+0100
TZNAME:CET
DTSTART:20251026T010000
END:STANDARD
BEGIN:DAYLIGHT
TZOFFSETFROM:+0100
TZOFFSETTO:+0200
TZNAME:CEST
DTSTART:20260329T010000
END:DAYLIGHT
BEGIN:STANDARD
TZOFFSETFROM:+0200
TZOFFSETTO:+0100
TZNAME:CET
DTSTART:20261025T010000
END:STANDARD
END:VTIMEZONE
BEGIN:VEVENT
DTSTART;VALUE=DATE:20250509
DTEND;VALUE=DATE:20250512
DTSTAMP:20260422T070738
CREATED:20250301T175040Z
LAST-MODIFIED:20250417T121406Z
UID:5284-1746748800-1747007999@dco-ev.de
SUMMARY:ACL Dutch Open 2025
DESCRIPTION:Registration is now open for the ACL Europe Dutch Open! We return to Deurne this season for the fourth Dutch Open! \nGet ready for a full weekend of cornhole including a pro Invitational event for all ACL Europe Pro players. \nThis is a Tier 3 event. 
URL:https://dco-ev.de/cms/event/acl-dutch-open-2025/
CATEGORIES:ACL Europe,Tier 3 Event
ATTACH;FMTTYPE=image/jpeg:https://dco-ev.de/cms/wp-content/uploads/2025/03/DutchOpen2025.jpg
END:VEVENT
END:VCALENDAR